BEGIN:VCALENDAR
VERSION:2.0
PRODID:-//hacksw/handcal//NONSGML v1.0//EN
CALSCALE:GREGORIAN
BEGIN:VEVENT
LOCATION:Place de l'église\, 83310 Grimaud
DESCRIPTION:https://www.golfe-saint-tropez-information.com/en/animation/entertainment-recreation/grimaud/grimaud-music-evenings-lecture-concert-by-frederic-vitoux-with-i-solisti-nuova-cameristica-di-milano-7624089
DTSTART:20261016T000000Z
DTEND:20261016T000000Z
SUMMARY:Grimaud Music Evenings - Lecture-concert by Frédéric Vitoux with I Solisti Nuova Cameristica di Milano
URL;VALUE=URI:https://www.golfe-saint-tropez-information.com/en/animation/entertainment-recreation/grimaud/grimaud-music-evenings-lecture-concert-by-frederic-vitoux-with-i-solisti-nuova-cameristica-di-milano-7624089
DTSTAMP:20260425T221941Z
UID:69ed3dfd0a6a8
END:VEVENT
END:VCALENDAR