BEGIN:VCALENDAR
VERSION:2.0
PRODID:-//hacksw/handcal//NONSGML v1.0//EN
CALSCALE:GREGORIAN
BEGIN:VEVENT
LOCATION:Place de l'église\, 83310 Grimaud
DESCRIPTION:https://www.golfe-saint-tropez-information.com/fr/animation/distractions-et-loisirs/grimaud/soirees-musicales-de-grimaud-vincent-tizon-anne-lise-clement-et-mathieu-moreaud-7624064
DTSTART:20260626T000000Z
DTEND:20260626T000000Z
SUMMARY:Soirées Musicales de Grimaud - Vincent Tizon\, Anne-Lise Clément et Mathieu Moreaud
URL;VALUE=URI:https://www.golfe-saint-tropez-information.com/fr/animation/distractions-et-loisirs/grimaud/soirees-musicales-de-grimaud-vincent-tizon-anne-lise-clement-et-mathieu-moreaud-7624064
DTSTAMP:20260422T202656Z
UID:69e92f108f075
END:VEVENT
END:VCALENDAR