BEGIN:VCALENDAR
VERSION:2.0
PRODID:-//hacksw/handcal//NONSGML v1.0//EN
CALSCALE:GREGORIAN
BEGIN:VEVENT
LOCATION:Place de l'église\, 83310 Grimaud
DESCRIPTION:https://www.golfe-saint-tropez-information.com/en/animation/entertainment-recreation/grimaud/grimaud-music-evenings-vincent-tizon-anne-lise-clement-and-mathieu-moreaud-7624064
DTSTART:20260626T000000Z
DTEND:20260626T000000Z
SUMMARY:Grimaud Music Evenings - Vincent Tizon\, Anne-Lise Clément and Mathieu Moreaud
URL;VALUE=URI:https://www.golfe-saint-tropez-information.com/en/animation/entertainment-recreation/grimaud/grimaud-music-evenings-vincent-tizon-anne-lise-clement-and-mathieu-moreaud-7624064
DTSTAMP:20260422T215738Z
UID:69e944526259c
END:VEVENT
END:VCALENDAR