BEGIN:VCALENDAR
VERSION:2.0
PRODID:-//hacksw/handcal//NONSGML v1.0//EN
CALSCALE:GREGORIAN
BEGIN:VEVENT
LOCATION:Place de l'église\, 83310 Grimaud
DESCRIPTION:https://www.golfe-saint-tropez-information.com/fr/animation/distractions-et-loisirs/grimaud/soirees-musicales-de-grimaud-theo-fouchenneret-boris-blanco-et-caroline-sypniewski-7623934
DTSTART:20260522T000000Z
DTEND:20260522T000000Z
SUMMARY:Soirées Musicales de Grimaud - Théo Fouchenneret\, Boris Blanco et Caroline Sypniewski
URL;VALUE=URI:https://www.golfe-saint-tropez-information.com/fr/animation/distractions-et-loisirs/grimaud/soirees-musicales-de-grimaud-theo-fouchenneret-boris-blanco-et-caroline-sypniewski-7623934
DTSTAMP:20260422T161759Z
UID:69e8f4b773f54
END:VEVENT
END:VCALENDAR