BEGIN:VCALENDAR
VERSION:2.0
PRODID:-//hacksw/handcal//NONSGML v1.0//EN
CALSCALE:GREGORIAN
BEGIN:VEVENT
LOCATION:Place de l'église\, 83310 Grimaud
DESCRIPTION:https://www.golfe-saint-tropez-information.com/en/animation/entertainment-recreation/grimaud/grimaud-music-evenings-theo-fouchenneret-boris-blanco-and-caroline-sypniewski-7623934
DTSTART:20260522T000000Z
DTEND:20260522T000000Z
SUMMARY:Grimaud Music Evenings - Théo Fouchenneret\, Boris Blanco and Caroline Sypniewski
URL;VALUE=URI:https://www.golfe-saint-tropez-information.com/en/animation/entertainment-recreation/grimaud/grimaud-music-evenings-theo-fouchenneret-boris-blanco-and-caroline-sypniewski-7623934
DTSTAMP:20260422T175307Z
UID:69e90b039e99d
END:VEVENT
END:VCALENDAR