BEGIN:VCALENDAR
VERSION:2.0
PRODID:-//hacksw/handcal//NONSGML v1.0//EN
CALSCALE:GREGORIAN
BEGIN:VEVENT
LOCATION:Place de l'église\, 83310 Grimaud
DESCRIPTION:https://www.golfe-saint-tropez-information.com/en/animation/entertainment-recreation/grimaud/grimaud-music-evenings-romain-bockler-and-the-concerto-soave-ensemble-7623909
DTSTART:20260424T000000Z
DTEND:20270424T000000Z
SUMMARY:Grimaud Music Evenings - Romain Bockler and the Concerto Soave ensemble
URL;VALUE=URI:https://www.golfe-saint-tropez-information.com/en/animation/entertainment-recreation/grimaud/grimaud-music-evenings-romain-bockler-and-the-concerto-soave-ensemble-7623909
DTSTAMP:20260422T150516Z
UID:69e8e3acee840
END:VEVENT
END:VCALENDAR