BEGIN:VCALENDAR
VERSION:2.0
PRODID:-//hacksw/handcal//NONSGML v1.0//EN
CALSCALE:GREGORIAN
BEGIN:VEVENT
LOCATION:2\, Place Georges Grammont\, 83990 Saint-Tropez
DESCRIPTION:https://www.golfe-saint-tropez-information.com/fr/animation/culture/saint-tropez/exposition-henri-person-une-personnalite-tropezienne-notoire-7622381
DTSTART:20260402T000000Z
DTEND:20261004T000000Z
SUMMARY:Exposition - Henri Person - Une personnalité tropézienne notoire
URL;VALUE=URI:https://www.golfe-saint-tropez-information.com/fr/animation/culture/saint-tropez/exposition-henri-person-une-personnalite-tropezienne-notoire-7622381
DTSTAMP:20260425T203814Z
UID:69ed26366120d
END:VEVENT
END:VCALENDAR