BEGIN:VCALENDAR
VERSION:2.0
PRODID:-//hacksw/handcal//NONSGML v1.0//EN
CALSCALE:GREGORIAN
BEGIN:VEVENT
LOCATION:2\, Place Georges Grammont\, 83990 Saint-Tropez
DESCRIPTION:https://www.golfe-saint-tropez-information.com/en/animation/cultural/saint-tropez/exhibition-henri-person-a-well-known-tropezian-personality-7622381
DTSTART:20260402T000000Z
DTEND:20261004T000000Z
SUMMARY:Exhibition - Henri Person - A well-known Tropezian personality
URL;VALUE=URI:https://www.golfe-saint-tropez-information.com/en/animation/cultural/saint-tropez/exhibition-henri-person-a-well-known-tropezian-personality-7622381
DTSTAMP:20260425T221941Z
UID:69ed3dfdcb323
END:VEVENT
END:VCALENDAR