BEGIN:VCALENDAR
VERSION:2.0
PRODID:-//hacksw/handcal//NONSGML v1.0//EN
CALSCALE:GREGORIAN
BEGIN:VEVENT
LOCATION:1999\, route du Bourrian\, 83580 Gassin
DESCRIPTION:https://www.golfe-saint-tropez-information.com/en/animation/sports-and-leisure/gassin/concours-de-sauts-international-jumping-d-octobre-7600439
DTSTART:20261015T000000Z
DTEND:20261024T000000Z
SUMMARY:Concours de sauts international - jumping d'octobre
URL;VALUE=URI:https://www.golfe-saint-tropez-information.com/en/animation/sports-and-leisure/gassin/concours-de-sauts-international-jumping-d-octobre-7600439
DTSTAMP:20260426T010214Z
UID:69ed6416aee5e
END:VEVENT
END:VCALENDAR