BEGIN:VCALENDAR
VERSION:2.0
PRODID:-//hacksw/handcal//NONSGML v1.0//EN
CALSCALE:GREGORIAN
BEGIN:VEVENT
LOCATION:Rue Commandant Guichard\, 83990 Saint-Tropez
DESCRIPTION:https://www.golfe-saint-tropez-information.com/en/animation/cultural/saint-tropez/concert-an-hour-with-the-organ-marie-ange-leurent-eric-lebrun-7593887
DTSTART:20261227T000000Z
DTEND:20261227T000000Z
SUMMARY:Concert - An hour with the organ - Marie-Ange LEURENT / Eric LEBRUN
URL;VALUE=URI:https://www.golfe-saint-tropez-information.com/en/animation/cultural/saint-tropez/concert-an-hour-with-the-organ-marie-ange-leurent-eric-lebrun-7593887
DTSTAMP:20260425T233552Z
UID:69ed4fd8d3c1d
END:VEVENT
END:VCALENDAR