BEGIN:VCALENDAR
VERSION:2.0
PRODID:-//hacksw/handcal//NONSGML v1.0//EN
CALSCALE:GREGORIAN
BEGIN:VEVENT
LOCATION:Rue Commandant Guichard\, 83990 Saint-Tropez
DESCRIPTION:https://www.golfe-saint-tropez-information.com/fr/animation/culture/saint-tropez/concert-une-heure-avec-l-orgue-cindy-castillo-7593875
DTSTART:20261129T000000Z
DTEND:20261129T000000Z
SUMMARY:Concert - Une heure avec l'Orgue - Cindy CASTILLO
URL;VALUE=URI:https://www.golfe-saint-tropez-information.com/fr/animation/culture/saint-tropez/concert-une-heure-avec-l-orgue-cindy-castillo-7593875
DTSTAMP:20260425T220124Z
UID:69ed39b47e68b
END:VEVENT
END:VCALENDAR