BEGIN:VCALENDAR
VERSION:2.0
PRODID:-//hacksw/handcal//NONSGML v1.0//EN
CALSCALE:GREGORIAN
BEGIN:VEVENT
LOCATION:Rue Commandant Guichard\, 83990 Saint-Tropez
DESCRIPTION:https://www.golfe-saint-tropez-information.com/en/animation/cultural/saint-tropez/concert-an-hour-with-the-organ-cindy-castillo-7593875
DTSTART:20261129T000000Z
DTEND:20261129T000000Z
SUMMARY:Concert - An hour with the organ - Cindy CASTILLO
URL;VALUE=URI:https://www.golfe-saint-tropez-information.com/en/animation/cultural/saint-tropez/concert-an-hour-with-the-organ-cindy-castillo-7593875
DTSTAMP:20260425T234307Z
UID:69ed518b3b3ba
END:VEVENT
END:VCALENDAR