BEGIN:VCALENDAR
VERSION:2.0
PRODID:-//hacksw/handcal//NONSGML v1.0//EN
CALSCALE:GREGORIAN
BEGIN:VEVENT
LOCATION:Rue Commandant Guichard\, 83990 Saint-Tropez
DESCRIPTION:https://www.golfe-saint-tropez-information.com/fr/animation/culture/saint-tropez/concert-une-heure-avec-l-orgue-josef-edwin-miltschitzky-7593853
DTSTART:20261025T000000Z
DTEND:20261025T000000Z
SUMMARY:Concert - Une heure avec l'Orgue - Josef-Edwin MILTSCHITZKY
URL;VALUE=URI:https://www.golfe-saint-tropez-information.com/fr/animation/culture/saint-tropez/concert-une-heure-avec-l-orgue-josef-edwin-miltschitzky-7593853
DTSTAMP:20260425T234244Z
UID:69ed5174f0f2c
END:VEVENT
END:VCALENDAR