BEGIN:VCALENDAR
VERSION:2.0
PRODID:-//hacksw/handcal//NONSGML v1.0//EN
CALSCALE:GREGORIAN
BEGIN:VEVENT
LOCATION:Rue Commandant Guichard\, 83990 Saint-Tropez
DESCRIPTION:https://www.golfe-saint-tropez-information.com/en/animation/cultural/saint-tropez/concert-an-hour-with-the-organ-josef-edwin-miltschitzky-7593853
DTSTART:20261025T000000Z
DTEND:20261025T000000Z
SUMMARY:Concert - An hour with the organ - Josef-Edwin MILTSCHITZKY
URL;VALUE=URI:https://www.golfe-saint-tropez-information.com/en/animation/cultural/saint-tropez/concert-an-hour-with-the-organ-josef-edwin-miltschitzky-7593853
DTSTAMP:20260426T012502Z
UID:69ed696ecb447
END:VEVENT
END:VCALENDAR