BEGIN:VCALENDAR
VERSION:2.0
PRODID:-//hacksw/handcal//NONSGML v1.0//EN
CALSCALE:GREGORIAN
BEGIN:VEVENT
LOCATION:Rue Commandant Guichard\, 83990 Saint-Tropez
DESCRIPTION:https://www.golfe-saint-tropez-information.com/en/animation/cultural/saint-tropez/concert-an-hour-with-the-organ-emmanuel-arakelian-7593833
DTSTART:20260927T000000Z
DTEND:20260927T000000Z
SUMMARY:Concert - An hour with the organ - Emmanuel ARAKELIAN
URL;VALUE=URI:https://www.golfe-saint-tropez-information.com/en/animation/cultural/saint-tropez/concert-an-hour-with-the-organ-emmanuel-arakelian-7593833
DTSTAMP:20260421T081313Z
UID:69e731995b319
END:VEVENT
END:VCALENDAR