BEGIN:VCALENDAR
VERSION:2.0
PRODID:-//hacksw/handcal//NONSGML v1.0//EN
CALSCALE:GREGORIAN
BEGIN:VEVENT
LOCATION:Médiathèque\, 44  Rue Marceau\, Cogolin
DESCRIPTION:https://www.golfe-saint-tropez-information.com/fr/animation/distractions-et-loisirs/cogolin/activite-sensorielle-7573975
DTSTART:20260422T000000Z
DTEND:20260422T000000Z
SUMMARY:Activité sensorielle
URL;VALUE=URI:https://www.golfe-saint-tropez-information.com/fr/animation/distractions-et-loisirs/cogolin/activite-sensorielle-7573975
DTSTAMP:20260422T063630Z
UID:69e86c6ed664e
END:VEVENT
END:VCALENDAR