BEGIN:VCALENDAR
VERSION:2.0
PRODID:-//hacksw/handcal//NONSGML v1.0//EN
CALSCALE:GREGORIAN
BEGIN:VEVENT
LOCATION:Résidence Cap Novéa\, Bâtiment A\, 528 Boulevard de Saint Raphaël\, 83420 La Croix-Valmer
DESCRIPTION:https://www.golfe-saint-tropez-information.com/en/animation/entertainment-recreation/la-croix-valmer/conference-debate-artificial-intelligence-7562551
DTSTART:20260425T000000Z
DTEND:20260425T000000Z
SUMMARY:Conference - Debate: Artificial intelligence
URL;VALUE=URI:https://www.golfe-saint-tropez-information.com/en/animation/entertainment-recreation/la-croix-valmer/conference-debate-artificial-intelligence-7562551
DTSTAMP:20260423T154313Z
UID:69ea3e11a7e7c
END:VEVENT
END:VCALENDAR