BEGIN:VCALENDAR
VERSION:2.0
PRODID:-//hacksw/handcal//NONSGML v1.0//EN
CALSCALE:GREGORIAN
BEGIN:VEVENT
LOCATION:Place de la Mairie\, 83680 La Garde-Freinet
DESCRIPTION:https://www.golfe-saint-tropez-information.com/fr/animation/sports/la-garde-freinet/zumba-party-family-7446157
DTSTART:20260723T000000Z
DTEND:20260723T000000Z
SUMMARY:Zumba® Party Family
URL;VALUE=URI:https://www.golfe-saint-tropez-information.com/fr/animation/sports/la-garde-freinet/zumba-party-family-7446157
DTSTAMP:20260422T230849Z
UID:69e9550113a21
END:VEVENT
END:VCALENDAR