BEGIN:VCALENDAR
VERSION:2.0
PRODID:-//hacksw/handcal//NONSGML v1.0//EN
CALSCALE:GREGORIAN
BEGIN:VEVENT
LOCATION:Place de la Mairie\, 83680 La Garde-Freinet
DESCRIPTION:https://www.golfe-saint-tropez-information.com/en/animation/entertainment-recreation/la-garde-freinet/fete-nationale-7440768
DTSTART:20260714T000000Z
DTEND:20260714T000000Z
SUMMARY:Fête Nationale
URL;VALUE=URI:https://www.golfe-saint-tropez-information.com/en/animation/entertainment-recreation/la-garde-freinet/fete-nationale-7440768
DTSTAMP:20260422T214325Z
UID:69e940fd6d837
END:VEVENT
END:VCALENDAR