BEGIN:VCALENDAR
VERSION:2.0
PRODID:-//hacksw/handcal//NONSGML v1.0//EN
CALSCALE:GREGORIAN
BEGIN:VEVENT
LOCATION:plage du Canadel\, avenue du Docteur Ratynski\, Rayol-Canadel-sur-Mer
DESCRIPTION:https://www.golfe-saint-tropez-information.com/fr/animation/distractions-et-loisirs/rayol-canadel-sur-mer/sunset-musical-7422282
DTSTART:20260703T000000Z
DTEND:20260703T000000Z
SUMMARY:Sunset Musical
URL;VALUE=URI:https://www.golfe-saint-tropez-information.com/fr/animation/distractions-et-loisirs/rayol-canadel-sur-mer/sunset-musical-7422282
DTSTAMP:20260425T220039Z
UID:69ed39870ed00
END:VEVENT
END:VCALENDAR