BEGIN:VCALENDAR
VERSION:2.0
PRODID:-//hacksw/handcal//NONSGML v1.0//EN
CALSCALE:GREGORIAN
BEGIN:VEVENT
LOCATION:avenue Jacques Chirac\, (anciennement avenue des Belges)\, 83820 Rayol-Canadel-sur-Mer
DESCRIPTION:https://www.golfe-saint-tropez-information.com/fr/animation/distractions-et-loisirs/rayol-canadel-sur-mer/sentier-sous-marin-7384253
DTSTART:20260614T000000Z
DTEND:20260914T000000Z
SUMMARY:Sentier sous-marin
URL;VALUE=URI:https://www.golfe-saint-tropez-information.com/fr/animation/distractions-et-loisirs/rayol-canadel-sur-mer/sentier-sous-marin-7384253
DTSTAMP:20260421T144630Z
UID:69e78dc690dec
END:VEVENT
END:VCALENDAR