BEGIN:VCALENDAR
VERSION:2.0
PRODID:-//hacksw/handcal//NONSGML v1.0//EN
CALSCALE:GREGORIAN
BEGIN:VEVENT
LOCATION:avenue Jacques Chirac\, (anciennement avenue des Belges)\, 83820 Rayol-Canadel-sur-Mer
DESCRIPTION:https://www.golfe-saint-tropez-information.com/en/animation/entertainment-recreation/rayol-canadel-sur-mer/snorkeling-7384253
DTSTART:20260614T000000Z
DTEND:20260914T000000Z
SUMMARY:Snorkeling
URL;VALUE=URI:https://www.golfe-saint-tropez-information.com/en/animation/entertainment-recreation/rayol-canadel-sur-mer/snorkeling-7384253
DTSTAMP:20260421T130752Z
UID:69e776a88a581
END:VEVENT
END:VCALENDAR