BEGIN:VCALENDAR
VERSION:2.0
PRODID:-//hacksw/handcal//NONSGML v1.0//EN
CALSCALE:GREGORIAN
BEGIN:VEVENT
LOCATION:Avenue Pierre et Marie Curie\, 83240 Cavalaire-sur-Mer
DESCRIPTION:https://www.golfe-saint-tropez-information.com/en/animation/sports-and-leisure/cavalaire-sur-mer/caval-raid-au-feminin-7370059
DTSTART:20260607T000000Z
DTEND:20260607T000000Z
SUMMARY:Caval'raid au Féminin
URL;VALUE=URI:https://www.golfe-saint-tropez-information.com/en/animation/sports-and-leisure/cavalaire-sur-mer/caval-raid-au-feminin-7370059
DTSTAMP:20260425T202442Z
UID:69ed230a1e565
END:VEVENT
END:VCALENDAR