BEGIN:VCALENDAR
VERSION:2.0
PRODID:-//hacksw/handcal//NONSGML v1.0//EN
CALSCALE:GREGORIAN
BEGIN:VEVENT
LOCATION:Place des Lices\, 83990 Saint-Tropez
DESCRIPTION:https://www.golfe-saint-tropez-information.com/fr/animation/distractions-et-loisirs/saint-tropez/fete-foraine-de-la-bravade-7362020
DTSTART:20260513T000000Z
DTEND:20260520T000000Z
SUMMARY:Fête foraine de la Bravade
URL;VALUE=URI:https://www.golfe-saint-tropez-information.com/fr/animation/distractions-et-loisirs/saint-tropez/fete-foraine-de-la-bravade-7362020
DTSTAMP:20260422T161627Z
UID:69e8f45b4f457
END:VEVENT
END:VCALENDAR