BEGIN:VCALENDAR
VERSION:2.0
PRODID:-//hacksw/handcal//NONSGML v1.0//EN
CALSCALE:GREGORIAN
BEGIN:VEVENT
LOCATION:Place des Lices\, 83990 Saint-Tropez
DESCRIPTION:https://www.golfe-saint-tropez-information.com/en/animation/entertainment-recreation/saint-tropez/bravade-fair-7362020
DTSTART:20260513T000000Z
DTEND:20260520T000000Z
SUMMARY:Bravade Fair
URL;VALUE=URI:https://www.golfe-saint-tropez-information.com/en/animation/entertainment-recreation/saint-tropez/bravade-fair-7362020
DTSTAMP:20260422T173259Z
UID:69e9064be1bad
END:VEVENT
END:VCALENDAR