BEGIN:VCALENDAR
VERSION:2.0
PRODID:-//hacksw/handcal//NONSGML v1.0//EN
CALSCALE:GREGORIAN
BEGIN:VEVENT
LOCATION:83350 Ramatuelle
DESCRIPTION:https://www.golfe-saint-tropez-information.com/fr/animation/manifestations-commerciales/ramatuelle/marche-potier-de-ramatuelle-7348543
DTSTART:20260728T000000Z
DTEND:20260728T000000Z
SUMMARY:Marché potier de Ramatuelle
URL;VALUE=URI:https://www.golfe-saint-tropez-information.com/fr/animation/manifestations-commerciales/ramatuelle/marche-potier-de-ramatuelle-7348543
DTSTAMP:20260420T035930Z
UID:69e5a4a2a72db
END:VEVENT
END:VCALENDAR