BEGIN:VCALENDAR
VERSION:2.0
PRODID:-//hacksw/handcal//NONSGML v1.0//EN
CALSCALE:GREGORIAN
BEGIN:VEVENT
LOCATION:83350 Ramatuelle
DESCRIPTION:https://www.golfe-saint-tropez-information.com/en/animation/commercial-event/ramatuelle/ramatuelle-pottery-market-7348543
DTSTART:20260728T000000Z
DTEND:20260728T000000Z
SUMMARY:Ramatuelle pottery market
URL;VALUE=URI:https://www.golfe-saint-tropez-information.com/en/animation/commercial-event/ramatuelle/ramatuelle-pottery-market-7348543
DTSTAMP:20260420T023530Z
UID:69e590f2dde43
END:VEVENT
END:VCALENDAR