BEGIN:VCALENDAR
VERSION:2.0
PRODID:-//hacksw/handcal//NONSGML v1.0//EN
CALSCALE:GREGORIAN
BEGIN:VEVENT
LOCATION:83420 La Croix-Valmer
DESCRIPTION:https://www.golfe-saint-tropez-information.com/fr/animation/distractions-et-loisirs/la-croix-valmer/journee-de-la-biodiversite-comprendre-et-proteger-les-recifs-coraliens-7344861
DTSTART:20261020T000000Z
DTEND:20261020T000000Z
SUMMARY:Journée de la biodiversité : Comprendre et protéger les récifs coraliens
URL;VALUE=URI:https://www.golfe-saint-tropez-information.com/fr/animation/distractions-et-loisirs/la-croix-valmer/journee-de-la-biodiversite-comprendre-et-proteger-les-recifs-coraliens-7344861
DTSTAMP:20260425T203812Z
UID:69ed2634d989b
END:VEVENT
END:VCALENDAR