BEGIN:VCALENDAR
VERSION:2.0
PRODID:-//hacksw/handcal//NONSGML v1.0//EN
CALSCALE:GREGORIAN
BEGIN:VEVENT
LOCATION:83420 La Croix-Valmer
DESCRIPTION:https://www.golfe-saint-tropez-information.com/en/animation/entertainment-recreation/la-croix-valmer/biodiversity-day-understanding-and-protecting-coral-reefs-7344861
DTSTART:20261020T000000Z
DTEND:20261020T000000Z
SUMMARY:Biodiversity Day: Understanding and protecting coral reefs
URL;VALUE=URI:https://www.golfe-saint-tropez-information.com/en/animation/entertainment-recreation/la-croix-valmer/biodiversity-day-understanding-and-protecting-coral-reefs-7344861
DTSTAMP:20260425T221941Z
UID:69ed3dfd2b71c
END:VEVENT
END:VCALENDAR