BEGIN:VCALENDAR
VERSION:2.0
PRODID:-//hacksw/handcal//NONSGML v1.0//EN
CALSCALE:GREGORIAN
BEGIN:VEVENT
LOCATION:83120 Plan-de-la-Tour
DESCRIPTION:https://www.golfe-saint-tropez-information.com/en/animation/nature-and-relaxation/plan-de-la-tour/les-24h-du-plan-marche-dans-les-collines-du-plan-de-la-tour-7343315
DTSTART:20260502T000000Z
DTEND:20260502T000000Z
SUMMARY:Les 24h du Plan : marche dans les collines du Plan de la Tour.
URL;VALUE=URI:https://www.golfe-saint-tropez-information.com/en/animation/nature-and-relaxation/plan-de-la-tour/les-24h-du-plan-marche-dans-les-collines-du-plan-de-la-tour-7343315
DTSTAMP:20260422T161626Z
UID:69e8f45adeba8
END:VEVENT
END:VCALENDAR