BEGIN:VCALENDAR
VERSION:2.0
PRODID:-//hacksw/handcal//NONSGML v1.0//EN
CALSCALE:GREGORIAN
BEGIN:VEVENT
LOCATION:Rue de L'Hubac\, 83680 La Garde-Freinet
DESCRIPTION:https://www.golfe-saint-tropez-information.com/fr/animation/sports/la-garde-freinet/fitness-summer-events-7337626
DTSTART:20260627T000000Z
DTEND:20260704T000000Z
SUMMARY:Fitness Summer Events
URL;VALUE=URI:https://www.golfe-saint-tropez-information.com/fr/animation/sports/la-garde-freinet/fitness-summer-events-7337626
DTSTAMP:20260425T173628Z
UID:69ecfb9c3fc01
END:VEVENT
END:VCALENDAR