BEGIN:VCALENDAR
VERSION:2.0
PRODID:-//hacksw/handcal//NONSGML v1.0//EN
CALSCALE:GREGORIAN
BEGIN:VEVENT
LOCATION:Aire de Loisirs\, place Léon Martel\, 83580 Gassin
DESCRIPTION:https://www.golfe-saint-tropez-information.com/en/animation/entertainment-recreation/gassin/sensation-2000-7335867
DTSTART:20260725T000000Z
DTEND:20260725T000000Z
SUMMARY:Sensation 2000
URL;VALUE=URI:https://www.golfe-saint-tropez-information.com/en/animation/entertainment-recreation/gassin/sensation-2000-7335867
DTSTAMP:20260423T002050Z
UID:69e965e2cd2be
END:VEVENT
END:VCALENDAR