BEGIN:VCALENDAR
VERSION:2.0
PRODID:-//hacksw/handcal//NONSGML v1.0//EN
CALSCALE:GREGORIAN
BEGIN:VEVENT
LOCATION:Place deï Barri\, Gassin village\, 83580 Gassin
DESCRIPTION:https://www.golfe-saint-tropez-information.com/en/animation/commercial-event/gassin/festival-d-ete-2026-les-marches-nocturnes-de-zabou-7331213
DTSTART:20260710T000000Z
DTEND:20260814T000000Z
SUMMARY:Festival d'été 2026-Les Marchés Nocturnes de Zabou
URL;VALUE=URI:https://www.golfe-saint-tropez-information.com/en/animation/commercial-event/gassin/festival-d-ete-2026-les-marches-nocturnes-de-zabou-7331213
DTSTAMP:20260420T022653Z
UID:69e58eedd63b2
END:VEVENT
END:VCALENDAR