BEGIN:VCALENDAR
VERSION:2.0
PRODID:-//hacksw/handcal//NONSGML v1.0//EN
CALSCALE:GREGORIAN
BEGIN:VEVENT
LOCATION:83240 Cavalaire-sur-Mer
DESCRIPTION:https://www.golfe-saint-tropez-information.com/en/animation/entertainment-recreation/cavalaire-sur-mer/freaky-billy-concert-rock-americain-annees-50-7307810
DTSTART:20260819T000000Z
DTEND:20260819T000000Z
SUMMARY:FREAKY BILLY - concert rock américain années 50'
URL;VALUE=URI:https://www.golfe-saint-tropez-information.com/en/animation/entertainment-recreation/cavalaire-sur-mer/freaky-billy-concert-rock-americain-annees-50-7307810
DTSTAMP:20260425T185124Z
UID:69ed0d2c6f7f3
END:VEVENT
END:VCALENDAR