BEGIN:VCALENDAR
VERSION:2.0
PRODID:-//hacksw/handcal//NONSGML v1.0//EN
CALSCALE:GREGORIAN
BEGIN:VEVENT
LOCATION:133\, Chemin de la Moutte\, 83990 Saint-Tropez
DESCRIPTION:https://www.golfe-saint-tropez-information.com/en/animation/entertainment-recreation/saint-tropez/festival-les-scenes-du-chateau-de-la-moutte-ya-d-la-joie-un-irresistible-cabaret-dejante-7307205
DTSTART:20260825T000000Z
DTEND:20260825T000000Z
SUMMARY:Festival Les scènes du Château de la Moutte - YA D’LA JOIE Un irrésistible cabaret déjanté
URL;VALUE=URI:https://www.golfe-saint-tropez-information.com/en/animation/entertainment-recreation/saint-tropez/festival-les-scenes-du-chateau-de-la-moutte-ya-d-la-joie-un-irresistible-cabaret-dejante-7307205
DTSTAMP:20260423T025501Z
UID:69e98a0549d90
END:VEVENT
END:VCALENDAR