BEGIN:VCALENDAR
VERSION:2.0
PRODID:-//hacksw/handcal//NONSGML v1.0//EN
CALSCALE:GREGORIAN
BEGIN:VEVENT
LOCATION:133\, Chemin de la Moutte\, 83990 Saint-Tropez
DESCRIPTION:https://www.golfe-saint-tropez-information.com/en/animation/entertainment-recreation/saint-tropez/festival-les-scenes-du-chateau-de-la-moutte-cyrano-de-bergerac-7307186
DTSTART:20260826T000000Z
DTEND:20260826T000000Z
SUMMARY:Festival Les scènes du Château de la Moutte - Cyrano de Bergerac
URL;VALUE=URI:https://www.golfe-saint-tropez-information.com/en/animation/entertainment-recreation/saint-tropez/festival-les-scenes-du-chateau-de-la-moutte-cyrano-de-bergerac-7307186
DTSTAMP:20260423T024835Z
UID:69e9888323adf
END:VEVENT
END:VCALENDAR