BEGIN:VCALENDAR
VERSION:2.0
PRODID:-//hacksw/handcal//NONSGML v1.0//EN
CALSCALE:GREGORIAN
BEGIN:VEVENT
LOCATION:133\, Chemin de la Moutte\, 83990 Saint-Tropez
DESCRIPTION:https://www.golfe-saint-tropez-information.com/fr/animation/distractions-et-loisirs/saint-tropez/festival-les-scenes-du-chateau-de-la-moutte-elie-semoun-cactus-7307177
DTSTART:20260820T000000Z
DTEND:20260820T000000Z
SUMMARY:Festival Les scènes du Château de la Moutte - Elie Semoun : "Cactus"
URL;VALUE=URI:https://www.golfe-saint-tropez-information.com/fr/animation/distractions-et-loisirs/saint-tropez/festival-les-scenes-du-chateau-de-la-moutte-elie-semoun-cactus-7307177
DTSTAMP:20260425T232637Z
UID:69ed4dade6370
END:VEVENT
END:VCALENDAR