BEGIN:VCALENDAR
VERSION:2.0
PRODID:-//hacksw/handcal//NONSGML v1.0//EN
CALSCALE:GREGORIAN
BEGIN:VEVENT
LOCATION:133\, Chemin de la Moutte\, 83990 Saint-Tropez
DESCRIPTION:https://www.golfe-saint-tropez-information.com/fr/animation/distractions-et-loisirs/saint-tropez/festival-les-scenes-du-chateau-de-la-moutte-the-opera-locos-7307080
DTSTART:20260821T000000Z
DTEND:20260821T000000Z
SUMMARY:Festival Les scènes du Château de la Moutte - The Opera Locos
URL;VALUE=URI:https://www.golfe-saint-tropez-information.com/fr/animation/distractions-et-loisirs/saint-tropez/festival-les-scenes-du-chateau-de-la-moutte-the-opera-locos-7307080
DTSTAMP:20260423T002016Z
UID:69e965c08075a
END:VEVENT
END:VCALENDAR