BEGIN:VCALENDAR
VERSION:2.0
PRODID:-//hacksw/handcal//NONSGML v1.0//EN
CALSCALE:GREGORIAN
BEGIN:VEVENT
LOCATION:133\, Chemin de la Moutte\, 83990 Saint-Tropez
DESCRIPTION:https://www.golfe-saint-tropez-information.com/fr/animation/distractions-et-loisirs/saint-tropez/festival-les-scenes-du-chateau-de-la-moutte-the-black-blues-brothers-cirque-musical-7307055
DTSTART:20260822T000000Z
DTEND:20260822T000000Z
SUMMARY:Festival Les scènes du Château de la Moutte - The Black Blues Brothers – Cirque musical
URL;VALUE=URI:https://www.golfe-saint-tropez-information.com/fr/animation/distractions-et-loisirs/saint-tropez/festival-les-scenes-du-chateau-de-la-moutte-the-black-blues-brothers-cirque-musical-7307055
DTSTAMP:20260425T232716Z
UID:69ed4dd460cca
END:VEVENT
END:VCALENDAR