BEGIN:VCALENDAR
VERSION:2.0
PRODID:-//hacksw/handcal//NONSGML v1.0//EN
CALSCALE:GREGORIAN
BEGIN:VEVENT
LOCATION:133\, Chemin de la Moutte\, 83990 Saint-Tropez
DESCRIPTION:https://www.golfe-saint-tropez-information.com/en/animation/entertainment-recreation/saint-tropez/festival-les-scenes-du-chateau-de-la-moutte-4e-edition-7295083
DTSTART:20260820T000000Z
DTEND:20260825T000000Z
SUMMARY:Festival Les scènes du Château de la Moutte 4e édition
URL;VALUE=URI:https://www.golfe-saint-tropez-information.com/en/animation/entertainment-recreation/saint-tropez/festival-les-scenes-du-chateau-de-la-moutte-4e-edition-7295083
DTSTAMP:20260423T013546Z
UID:69e97772c3237
END:VEVENT
END:VCALENDAR