BEGIN:VCALENDAR
VERSION:2.0
PRODID:-//hacksw/handcal//NONSGML v1.0//EN
CALSCALE:GREGORIAN
BEGIN:VEVENT
LOCATION:107 route du Plan de la Tour\, Carré Léon Gaumont\, 83120 Sainte-Maxime
DESCRIPTION:https://www.golfe-saint-tropez-information.com/en/animation/cultural/sainte-maxime/ateliers-recup-recyclage-tout-en-couleurs-7293888
DTSTART:20260505T000000Z
DTEND:20260609T000000Z
SUMMARY:Ateliers récup : recyclage tout en couleurs
URL;VALUE=URI:https://www.golfe-saint-tropez-information.com/en/animation/cultural/sainte-maxime/ateliers-recup-recyclage-tout-en-couleurs-7293888
DTSTAMP:20260422T174659Z
UID:69e90993c97ad
END:VEVENT
END:VCALENDAR