BEGIN:VCALENDAR
VERSION:2.0
PRODID:-//hacksw/handcal//NONSGML v1.0//EN
CALSCALE:GREGORIAN
BEGIN:VEVENT
LOCATION:597 Route de Collebasse\, Direction l escalet au rond de la ZI  le colombier\, 83350 Ramatuelle
DESCRIPTION:https://www.golfe-saint-tropez-information.com/fr/animation/distractions-et-loisirs/ramatuelle/chasse-aux-oeufs-aux-vignobles-de-ramatuelle-7280764
DTSTART:20260416T000000Z
DTEND:20260423T000000Z
SUMMARY:Chasse aux œufs aux Vignobles de Ramatuelle
URL;VALUE=URI:https://www.golfe-saint-tropez-information.com/fr/animation/distractions-et-loisirs/ramatuelle/chasse-aux-oeufs-aux-vignobles-de-ramatuelle-7280764
DTSTAMP:20260423T120946Z
UID:69ea0c0aa2315
END:VEVENT
END:VCALENDAR