BEGIN:VCALENDAR
VERSION:2.0
PRODID:-//hacksw/handcal//NONSGML v1.0//EN
CALSCALE:GREGORIAN
BEGIN:VEVENT
LOCATION:597 Route de Collebasse\, Direction l escalet au rond de la ZI  le colombier\, 83350 Ramatuelle
DESCRIPTION:https://www.golfe-saint-tropez-information.com/en/animation/entertainment-recreation/ramatuelle/egg-hunt-at-ramatuelle-vineyards-7280764
DTSTART:20260416T000000Z
DTEND:20260423T000000Z
SUMMARY:Egg hunt at Ramatuelle vineyards
URL;VALUE=URI:https://www.golfe-saint-tropez-information.com/en/animation/entertainment-recreation/ramatuelle/egg-hunt-at-ramatuelle-vineyards-7280764
DTSTAMP:20260423T105357Z
UID:69e9fa452a135
END:VEVENT
END:VCALENDAR