BEGIN:VCALENDAR
VERSION:2.0
PRODID:-//hacksw/handcal//NONSGML v1.0//EN
CALSCALE:GREGORIAN
BEGIN:VEVENT
LOCATION:Place Neuve\, 83680 La Garde-Freinet
DESCRIPTION:https://www.golfe-saint-tropez-information.com/en/animation/entertainment-recreation/la-garde-freinet/bal-summer-tour-7230058
DTSTART:20260814T000000Z
DTEND:20260814T000000Z
SUMMARY:Bal Summer tour
URL;VALUE=URI:https://www.golfe-saint-tropez-information.com/en/animation/entertainment-recreation/la-garde-freinet/bal-summer-tour-7230058
DTSTAMP:20260423T014133Z
UID:69e978cd9f54b
END:VEVENT
END:VCALENDAR