BEGIN:VCALENDAR
VERSION:2.0
PRODID:-//hacksw/handcal//NONSGML v1.0//EN
CALSCALE:GREGORIAN
BEGIN:VEVENT
LOCATION:Place Général de Gaulle\, 83350 Ramatuelle
DESCRIPTION:https://www.golfe-saint-tropez-information.com/fr/animation/culture/ramatuelle/visite-insolite-au-coeur-de-ramatuelle-en-avril-7223073
DTSTART:20260414T000000Z
DTEND:20260428T000000Z
SUMMARY:Visite insolite : Au cœur de Ramatuelle en avril
URL;VALUE=URI:https://www.golfe-saint-tropez-information.com/fr/animation/culture/ramatuelle/visite-insolite-au-coeur-de-ramatuelle-en-avril-7223073
DTSTAMP:20260422T161759Z
UID:69e8f4b703ba9
END:VEVENT
END:VCALENDAR