BEGIN:VCALENDAR
VERSION:2.0
PRODID:-//hacksw/handcal//NONSGML v1.0//EN
CALSCALE:GREGORIAN
BEGIN:VEVENT
LOCATION:Place Général de Gaulle\, 83350 Ramatuelle
DESCRIPTION:https://www.golfe-saint-tropez-information.com/en/animation/cultural/ramatuelle/unusual-visit-in-the-heart-of-ramatuelle-in-april-7223073
DTSTART:20260414T000000Z
DTEND:20260428T000000Z
SUMMARY:Unusual visit: In the heart of Ramatuelle in April
URL;VALUE=URI:https://www.golfe-saint-tropez-information.com/en/animation/cultural/ramatuelle/unusual-visit-in-the-heart-of-ramatuelle-in-april-7223073
DTSTAMP:20260422T175306Z
UID:69e90b02d4138
END:VEVENT
END:VCALENDAR