BEGIN:VCALENDAR
VERSION:2.0
PRODID:-//hacksw/handcal//NONSGML v1.0//EN
CALSCALE:GREGORIAN
BEGIN:VEVENT
LOCATION:1999 route du Bourrian\, 83580 Gassin
DESCRIPTION:https://www.golfe-saint-tropez-information.com/en/animation/sports-and-leisure/gassin/longines-league-of-nations-gassin-st-tropez-7217780
DTSTART:20260917T000000Z
DTEND:20260920T000000Z
SUMMARY:Longines League of Nations - Gassin St Tropez
URL;VALUE=URI:https://www.golfe-saint-tropez-information.com/en/animation/sports-and-leisure/gassin/longines-league-of-nations-gassin-st-tropez-7217780
DTSTAMP:20260423T054154Z
UID:69e9b1229ff62
END:VEVENT
END:VCALENDAR