BEGIN:VCALENDAR
VERSION:2.0
PRODID:-//hacksw/handcal//NONSGML v1.0//EN
CALSCALE:GREGORIAN
BEGIN:VEVENT
LOCATION:Plage de Gigaro\, 83420 La Croix-Valmer
DESCRIPTION:https://www.golfe-saint-tropez-information.com/fr/animation/nature-et-detente/la-croix-valmer/point-rencontre-avec-un-garde-du-littoral-ecoute-nocturne-7217437
DTSTART:20260926T000000Z
DTEND:20260926T000000Z
SUMMARY:Point rencontre avec un garde du littoral : Ecoute nocturne
URL;VALUE=URI:https://www.golfe-saint-tropez-information.com/fr/animation/nature-et-detente/la-croix-valmer/point-rencontre-avec-un-garde-du-littoral-ecoute-nocturne-7217437
DTSTAMP:20260423T014945Z
UID:69e97ab92e1d1
END:VEVENT
END:VCALENDAR