BEGIN:VCALENDAR
VERSION:2.0
PRODID:-//hacksw/handcal//NONSGML v1.0//EN
CALSCALE:GREGORIAN
BEGIN:VEVENT
LOCATION:Plage de Gigaro\, 83420 La Croix-Valmer
DESCRIPTION:https://www.golfe-saint-tropez-information.com/en/animation/nature-and-relaxation/la-croix-valmer/meeting-point-with-a-coastguard-night-listening-7217437
DTSTART:20260926T000000Z
DTEND:20260926T000000Z
SUMMARY:Meeting point with a coastguard : Night listening
URL;VALUE=URI:https://www.golfe-saint-tropez-information.com/en/animation/nature-and-relaxation/la-croix-valmer/meeting-point-with-a-coastguard-night-listening-7217437
DTSTAMP:20260423T030941Z
UID:69e98d7522afd
END:VEVENT
END:VCALENDAR