BEGIN:VCALENDAR
VERSION:2.0
PRODID:-//hacksw/handcal//NONSGML v1.0//EN
CALSCALE:GREGORIAN
BEGIN:VEVENT
LOCATION:Résidence Cap Novéa\, Bâtiment A\, 528 Boulevard de Saint Raphaël\, 83420 La Croix-Valmer
DESCRIPTION:https://www.golfe-saint-tropez-information.com/en/animation/entertainment-recreation/la-croix-valmer/histoires-de-momes-7139352
DTSTART:20260503T000000Z
DTEND:20260503T000000Z
SUMMARY:Histoires de mômes
URL;VALUE=URI:https://www.golfe-saint-tropez-information.com/en/animation/entertainment-recreation/la-croix-valmer/histoires-de-momes-7139352
DTSTAMP:20260422T161055Z
UID:69e8f30f7141e
END:VEVENT
END:VCALENDAR